BEGIN:VCALENDAR
VERSION:2.0
PRODID:-//ChurchDev//Events//EN
CALSCALE:GREGORIAN
METHOD:PUBLISH
BEGIN:VEVENT
UID:4818-20230404@www.fbyl.org
SUMMARY:Prayer Team Meeting
DTSTART:20230404T190000Z
DTEND:20230404T200000Z
DESCRIPTION:Prayer Team Meeting will occur every Tuesday at 11:00am Pastor Paul&#8217\;s office or in the Church Business and Training Office.\\n\\nhttps://www.fbyl.org/events/prayer-team-meeting/
URL:https://www.fbyl.org/events/prayer-team-meeting/
DTSTAMP:20260419T204604Z
END:VEVENT
END:VCALENDAR
