BEGIN:VCALENDAR
VERSION:2.0
PRODID:-//ChurchDev//Events//EN
CALSCALE:GREGORIAN
METHOD:PUBLISH
BEGIN:VEVENT
UID:5001-20240403@www.fbyl.org
SUMMARY:Ladies Life Group
DTSTART:20240404T023000Z
DTEND:20240404T033000Z
DESCRIPTION:Meets in the Church Office on Wednesday evenings.\\n\\nhttps://www.fbyl.org/events/ladies-life-group/
URL:https://www.fbyl.org/events/ladies-life-group/
DTSTAMP:20260419T204715Z
END:VEVENT
END:VCALENDAR
