BEGIN:VCALENDAR
VERSION:2.0
PRODID:-//ChurchDev//Events//EN
CALSCALE:GREGORIAN
METHOD:PUBLISH
BEGIN:VEVENT
UID:5003-20240405@www.fbyl.org
SUMMARY:Men&#8217\;s Breakfast &#8211\; Polly&#8217\;s Pie
DTSTART:20240405T153000Z
DTEND:20240405T163000Z
DESCRIPTION:Meets at Polly&#8217\;s Pie on Imperial Blvd and Lemon Drive\\n\\nhttps://www.fbyl.org/events/mens-breakfast-pollys-pie-2/
URL:https://www.fbyl.org/events/mens-breakfast-pollys-pie-2/
DTSTAMP:20260419T204715Z
END:VEVENT
END:VCALENDAR
